BEGIN:VCALENDAR
VERSION:2.0
PRODID:-//Tierhilfe - ECPv6.15.20//NONSGML v1.0//EN
CALSCALE:GREGORIAN
METHOD:PUBLISH
X-WR-CALNAME:Tierhilfe
X-ORIGINAL-URL:https://www.tierhilfeweidenberg.de
X-WR-CALDESC:Veranstaltungen für Tierhilfe
REFRESH-INTERVAL;VALUE=DURATION:PT1H
X-Robots-Tag:noindex
X-PUBLISHED-TTL:PT1H
BEGIN:VTIMEZONE
TZID:Europe/Berlin
BEGIN:DAYLIGHT
TZOFFSETFROM:+0100
TZOFFSETTO:+0200
TZNAME:CEST
DTSTART:20250330T010000
END:DAYLIGHT
BEGIN:STANDARD
TZOFFSETFROM:+0200
TZOFFSETTO:+0100
TZNAME:CET
DTSTART:20251026T010000
END:STANDARD
BEGIN:DAYLIGHT
TZOFFSETFROM:+0100
TZOFFSETTO:+0200
TZNAME:CEST
DTSTART:20260329T010000
END:DAYLIGHT
BEGIN:STANDARD
TZOFFSETFROM:+0200
TZOFFSETTO:+0100
TZNAME:CET
DTSTART:20261025T010000
END:STANDARD
BEGIN:DAYLIGHT
TZOFFSETFROM:+0100
TZOFFSETTO:+0200
TZNAME:CEST
DTSTART:20270328T010000
END:DAYLIGHT
BEGIN:STANDARD
TZOFFSETFROM:+0200
TZOFFSETTO:+0100
TZNAME:CET
DTSTART:20271031T010000
END:STANDARD
END:VTIMEZONE
BEGIN:VEVENT
DTSTART;TZID=Europe/Berlin:20260502T090000
DTEND;TZID=Europe/Berlin:20260502T180000
DTSTAMP:20260425T171310
CREATED:20260315T075802Z
LAST-MODIFIED:20260315T075915Z
UID:4987-1777712400-1777744800@www.tierhilfeweidenberg.de
SUMMARY:Flohmarkt Bayreuth
DESCRIPTION:Wir freuen uns\, wieder dabei sein zu dürfen.Ihr findet uns diesmal an Stand 282 (ausschließlich am Samstag!).
URL:https://www.tierhilfeweidenberg.de/event/flohmarkt-bayreuth-7/
LOCATION:Volksfestplatz\, Friedrich-Ebert-Straße\, 95448 Bayreuth
END:VEVENT
BEGIN:VEVENT
DTSTART;TZID=Europe/Berlin:20260503T100000
DTEND;TZID=Europe/Berlin:20260503T180000
DTSTAMP:20260425T171310
CREATED:20260315T145752Z
LAST-MODIFIED:20260315T145837Z
UID:4991-1777802400-1777831200@www.tierhilfeweidenberg.de
SUMMARY:Maimarkt Pegnitz 🌼
DESCRIPTION:Wir laden euch ganz ❤️-lich ein\, uns an unserem Stand am Pegnitzer Maimarkt zu besuchen 🌷.
URL:https://www.tierhilfeweidenberg.de/event/maimarkt-pegnitz-%f0%9f%8c%bc/
END:VEVENT
BEGIN:VEVENT
DTSTART;TZID=Europe/Berlin:20260529T170000
DTEND;TZID=Europe/Berlin:20260531T180000
DTSTAMP:20260425T171310
CREATED:20260417T044425Z
LAST-MODIFIED:20260417T060558Z
UID:5060-1780074000-1780250400@www.tierhilfeweidenberg.de
SUMMARY:Großes Bengkidz e. V. Sommerfest 🥳
DESCRIPTION:Habt ihr Lust auf Sommer\, Spaß und gute Laune? Ja? Wir auch 🥳.Auf Einladung von Oliver Weber ist die Tierhilfe Weidenberg auch in diesem Jahr beim großen Sommerfest mit dabei. \n\n\n\nWir freuen uns sehr auf dieses fröhliche 🌞 Wochenende! \n\n\n\n\nBengkidz
URL:https://www.tierhilfeweidenberg.de/event/grosses-bengkidz-e-v-sommerfest-%f0%9f%a5%b3/
LOCATION:Christian-Sammet-Schule\, Roseggerstraße 22\, Pegnitz\, 91257
END:VEVENT
END:VCALENDAR