BEGIN:VCALENDAR
VERSION:2.0
PRODID:-//Tierhilfe - ECPv6.15.20//NONSGML v1.0//EN
CALSCALE:GREGORIAN
METHOD:PUBLISH
X-WR-CALNAME:Tierhilfe
X-ORIGINAL-URL:https://www.tierhilfeweidenberg.de
X-WR-CALDESC:Veranstaltungen für Tierhilfe
REFRESH-INTERVAL;VALUE=DURATION:PT1H
X-Robots-Tag:noindex
X-PUBLISHED-TTL:PT1H
BEGIN:VTIMEZONE
TZID:Europe/Berlin
BEGIN:DAYLIGHT
TZOFFSETFROM:+0100
TZOFFSETTO:+0200
TZNAME:CEST
DTSTART:20240331T010000
END:DAYLIGHT
BEGIN:STANDARD
TZOFFSETFROM:+0200
TZOFFSETTO:+0100
TZNAME:CET
DTSTART:20241027T010000
END:STANDARD
BEGIN:DAYLIGHT
TZOFFSETFROM:+0100
TZOFFSETTO:+0200
TZNAME:CEST
DTSTART:20250330T010000
END:DAYLIGHT
BEGIN:STANDARD
TZOFFSETFROM:+0200
TZOFFSETTO:+0100
TZNAME:CET
DTSTART:20251026T010000
END:STANDARD
BEGIN:DAYLIGHT
TZOFFSETFROM:+0100
TZOFFSETTO:+0200
TZNAME:CEST
DTSTART:20260329T010000
END:DAYLIGHT
BEGIN:STANDARD
TZOFFSETFROM:+0200
TZOFFSETTO:+0100
TZNAME:CET
DTSTART:20261025T010000
END:STANDARD
END:VTIMEZONE
BEGIN:VEVENT
DTSTART;TZID=Europe/Berlin:20251127T170000
DTEND;TZID=Europe/Berlin:20251221T220000
DTSTAMP:20260426T040710
CREATED:20251031T053737Z
LAST-MODIFIED:20251127T181539Z
UID:4836-1764262800-1766354400@www.tierhilfeweidenberg.de
SUMMARY:Pegnitzer Adventsdorf 🌟
DESCRIPTION:In der Vorweihnachtszeit kann man täglich Gutes für unsere Tiere tun\, denn die Tierhilfe Weidenberg ist mit einem eigenen Stand im Adventsdorf vertreten. \n\n\n\nMo – Sa ab 17 hSo ab 14 h \n\n\n\nKommt vorbei auf einen Glühwein\, Feuerzangenbowle\, Kinderpunsch\, heiße Schokolade oder Tee.Desweiteren gibt es Mandeln\, Zuckerwatte\, Plätzchen und vieles mehr. \n\n\n\nWir freuen uns auf euch!
URL:https://www.tierhilfeweidenberg.de/event/pegnitzer-adventsdorf-%f0%9f%8c%9f/
LOCATION:Hauptstraße 45\, 91257 Pegnitz\, Hauptstraße 45\, Pegnitz\, 91257
END:VEVENT
BEGIN:VEVENT
DTSTART;TZID=Europe/Berlin:20251130T104500
DTEND;TZID=Europe/Berlin:20251130T180000
DTSTAMP:20260426T040710
CREATED:20251101T071839Z
LAST-MODIFIED:20251101T071840Z
UID:4852-1764499500-1764525600@www.tierhilfeweidenberg.de
SUMMARY:Andreasmarkt Weidenberg 🎄
DESCRIPTION:Wir freuen uns\, euch am 1. Advent 🌟 an unserem Stand auf dem zauberhaften Andreasmarkt begrüßen zu dürfen.
URL:https://www.tierhilfeweidenberg.de/event/andreasmarkt-weidenberg-%f0%9f%8e%84-2/
LOCATION:Rathausplatz\, 95466 Weidenberg\, Rathausplatz\, Weidenberg\, 95466\, Deutschland
END:VEVENT
END:VCALENDAR